BEGIN:VCALENDAR
VERSION:2.0
PRODID:-//Team Elite - ECPv6.15.17.1//NONSGML v1.0//EN
CALSCALE:GREGORIAN
METHOD:PUBLISH
X-ORIGINAL-URL:https://www.teamelitebaseball.org
X-WR-CALDESC:Events for Team Elite
REFRESH-INTERVAL;VALUE=DURATION:PT1H
X-Robots-Tag:noindex
X-PUBLISHED-TTL:PT1H
BEGIN:VTIMEZONE
TZID:America/New_York
BEGIN:DAYLIGHT
TZOFFSETFROM:-0500
TZOFFSETTO:-0400
TZNAME:EDT
DTSTART:20240310T070000
END:DAYLIGHT
BEGIN:STANDARD
TZOFFSETFROM:-0400
TZOFFSETTO:-0500
TZNAME:EST
DTSTART:20241103T060000
END:STANDARD
BEGIN:DAYLIGHT
TZOFFSETFROM:-0500
TZOFFSETTO:-0400
TZNAME:EDT
DTSTART:20250309T070000
END:DAYLIGHT
BEGIN:STANDARD
TZOFFSETFROM:-0400
TZOFFSETTO:-0500
TZNAME:EST
DTSTART:20251102T060000
END:STANDARD
BEGIN:DAYLIGHT
TZOFFSETFROM:-0500
TZOFFSETTO:-0400
TZNAME:EDT
DTSTART:20260308T070000
END:DAYLIGHT
BEGIN:STANDARD
TZOFFSETFROM:-0400
TZOFFSETTO:-0500
TZNAME:EST
DTSTART:20261101T060000
END:STANDARD
END:VTIMEZONE
BEGIN:VEVENT
DTSTART;TZID=America/New_York:20250623T180000
DTEND;TZID=America/New_York:20250623T180000
DTSTAMP:20260422T221708
CREATED:20250811T172222Z
LAST-MODIFIED:20251008T140711Z
UID:10000699-1750701600-1750701600@www.teamelitebaseball.org
SUMMARY:TE National Program Prime Tryouts (11U - 12U) @ Johns Creek Presbyterian Church
DESCRIPTION:
URL:https://www.teamelitebaseball.org/event/te-national-program-prime-tryouts-11u-12u-johns-creek-presbyterian-church-3/
LOCATION:Johns Creek Presbyterian Church\, 10950 Bell Rd.\, Johns Creek\, GA\, 30097
CATEGORIES:Tryouts
END:VEVENT
BEGIN:VEVENT
DTSTART;TZID=America/New_York:20250623T180000
DTEND;TZID=America/New_York:20250623T180000
DTSTAMP:20260422T221708
CREATED:20250811T172330Z
LAST-MODIFIED:20251008T140711Z
UID:10000718-1750701600-1750701600@www.teamelitebaseball.org
SUMMARY:TE National Program  Tryouts (13U - 14U) @ Johns Creek Presbyterian Church
DESCRIPTION:
URL:https://www.teamelitebaseball.org/event/te-national-program-tryouts-13u-14u-johns-creek-presbyterian-church-3/
LOCATION:Johns Creek Presbyterian Church\, 10950 Bell Rd.\, Johns Creek\, GA\, 30097
CATEGORIES:Tryouts
END:VEVENT
BEGIN:VEVENT
DTSTART;TZID=America/New_York:20250625T180000
DTEND;TZID=America/New_York:20250625T180000
DTSTAMP:20260422T221708
CREATED:20250811T172223Z
LAST-MODIFIED:20251008T140711Z
UID:10000700-1750874400-1750874400@www.teamelitebaseball.org
SUMMARY:TE National Program Prime Tryouts (11U - 12U) @ Milton Pro Player
DESCRIPTION:
URL:https://www.teamelitebaseball.org/event/te-national-program-prime-tryouts-11u-12u-milton-pro-player-3/
LOCATION:Milton Pro Player\, 17162 Birmingham Hwy.\, Alpharetta\, GA\, 30004
CATEGORIES:Tryouts
END:VEVENT
BEGIN:VEVENT
DTSTART;TZID=America/New_York:20250625T180000
DTEND;TZID=America/New_York:20250625T180000
DTSTAMP:20260422T221708
CREATED:20250811T172330Z
LAST-MODIFIED:20251008T140711Z
UID:10000719-1750874400-1750874400@www.teamelitebaseball.org
SUMMARY:TE National Program  Tryouts (13U - 14U) @ Milton Pro Player
DESCRIPTION:
URL:https://www.teamelitebaseball.org/event/te-national-program-tryouts-13u-14u-milton-pro-player-3/
LOCATION:Milton Pro Player\, 17162 Birmingham Hwy.\, Alpharetta\, GA\, 30004
CATEGORIES:Tryouts
END:VEVENT
BEGIN:VEVENT
DTSTART;TZID=America/New_York:20250629T140000
DTEND;TZID=America/New_York:20250629T140000
DTSTAMP:20260422T221708
CREATED:20250811T172223Z
LAST-MODIFIED:20251008T140727Z
UID:10000701-1751205600-1751205600@www.teamelitebaseball.org
SUMMARY:TE National Program Prime Tryouts (11U - 12U) @ Peachtree Ridge High School
DESCRIPTION:
URL:https://www.teamelitebaseball.org/event/te-national-program-prime-tryouts-11u-12u-peachtree-ridge-high-school/
LOCATION:Peachtree Ridge High School\, 1555 Old Peachtree Rd. NW\, Suwanee\, GA\, 30024
CATEGORIES:Tryouts
END:VEVENT
BEGIN:VEVENT
DTSTART;TZID=America/New_York:20250629T140000
DTEND;TZID=America/New_York:20250629T140000
DTSTAMP:20260422T221708
CREATED:20250811T172330Z
LAST-MODIFIED:20251008T140727Z
UID:10000720-1751205600-1751205600@www.teamelitebaseball.org
SUMMARY:TE National Program  Tryouts (13U - 14U) @ Peachtree Ridge High School
DESCRIPTION:
URL:https://www.teamelitebaseball.org/event/te-national-program-tryouts-13u-14u-peachtree-ridge-high-school/
LOCATION:Peachtree Ridge High School\, 1555 Old Peachtree Rd. NW\, Suwanee\, GA\, 30024
CATEGORIES:Tryouts
END:VEVENT
END:VCALENDAR