BEGIN:VCALENDAR
VERSION:2.0
PRODID:-//Team Elite - ECPv6.15.17.1//NONSGML v1.0//EN
CALSCALE:GREGORIAN
METHOD:PUBLISH
X-ORIGINAL-URL:https://www.teamelitebaseball.org
X-WR-CALDESC:Events for Team Elite
REFRESH-INTERVAL;VALUE=DURATION:PT1H
X-Robots-Tag:noindex
X-PUBLISHED-TTL:PT1H
BEGIN:VTIMEZONE
TZID:America/Detroit
BEGIN:DAYLIGHT
TZOFFSETFROM:-0500
TZOFFSETTO:-0400
TZNAME:EDT
DTSTART:20240310T070000
END:DAYLIGHT
BEGIN:STANDARD
TZOFFSETFROM:-0400
TZOFFSETTO:-0500
TZNAME:EST
DTSTART:20241103T060000
END:STANDARD
BEGIN:DAYLIGHT
TZOFFSETFROM:-0500
TZOFFSETTO:-0400
TZNAME:EDT
DTSTART:20250309T070000
END:DAYLIGHT
BEGIN:STANDARD
TZOFFSETFROM:-0400
TZOFFSETTO:-0500
TZNAME:EST
DTSTART:20251102T060000
END:STANDARD
BEGIN:DAYLIGHT
TZOFFSETFROM:-0500
TZOFFSETTO:-0400
TZNAME:EDT
DTSTART:20260308T070000
END:DAYLIGHT
BEGIN:STANDARD
TZOFFSETFROM:-0400
TZOFFSETTO:-0500
TZNAME:EST
DTSTART:20261101T060000
END:STANDARD
END:VTIMEZONE
BEGIN:VTIMEZONE
TZID:America/New_York
BEGIN:DAYLIGHT
TZOFFSETFROM:-0500
TZOFFSETTO:-0400
TZNAME:EDT
DTSTART:20240310T070000
END:DAYLIGHT
BEGIN:STANDARD
TZOFFSETFROM:-0400
TZOFFSETTO:-0500
TZNAME:EST
DTSTART:20241103T060000
END:STANDARD
BEGIN:DAYLIGHT
TZOFFSETFROM:-0500
TZOFFSETTO:-0400
TZNAME:EDT
DTSTART:20250309T070000
END:DAYLIGHT
BEGIN:STANDARD
TZOFFSETFROM:-0400
TZOFFSETTO:-0500
TZNAME:EST
DTSTART:20251102T060000
END:STANDARD
BEGIN:DAYLIGHT
TZOFFSETFROM:-0500
TZOFFSETTO:-0400
TZNAME:EDT
DTSTART:20260308T070000
END:DAYLIGHT
BEGIN:STANDARD
TZOFFSETFROM:-0400
TZOFFSETTO:-0500
TZNAME:EST
DTSTART:20261101T060000
END:STANDARD
END:VTIMEZONE
BEGIN:VTIMEZONE
TZID:America/Chicago
BEGIN:DAYLIGHT
TZOFFSETFROM:-0600
TZOFFSETTO:-0500
TZNAME:CDT
DTSTART:20240310T080000
END:DAYLIGHT
BEGIN:STANDARD
TZOFFSETFROM:-0500
TZOFFSETTO:-0600
TZNAME:CST
DTSTART:20241103T070000
END:STANDARD
BEGIN:DAYLIGHT
TZOFFSETFROM:-0600
TZOFFSETTO:-0500
TZNAME:CDT
DTSTART:20250309T080000
END:DAYLIGHT
BEGIN:STANDARD
TZOFFSETFROM:-0500
TZOFFSETTO:-0600
TZNAME:CST
DTSTART:20251102T070000
END:STANDARD
BEGIN:DAYLIGHT
TZOFFSETFROM:-0600
TZOFFSETTO:-0500
TZNAME:CDT
DTSTART:20260308T080000
END:DAYLIGHT
BEGIN:STANDARD
TZOFFSETFROM:-0500
TZOFFSETTO:-0600
TZNAME:CST
DTSTART:20261101T070000
END:STANDARD
END:VTIMEZONE
BEGIN:VEVENT
DTSTART;TZID=America/Detroit:20250728T180000
DTEND;TZID=America/Detroit:20250728T180000
DTSTAMP:20260422T193434
CREATED:20250811T172406Z
LAST-MODIFIED:20251008T140801Z
UID:10000730-1753725600-1753725600@www.teamelitebaseball.org
SUMMARY:TE National Program  Tryouts (13U - 18U) @ Orchard Lake St. Mary's Preparatory
DESCRIPTION:
URL:https://www.teamelitebaseball.org/event/te-national-program-tryouts-13u-18u-orchard-lake-st-marys-preparatory/
LOCATION:Orchard Lake St. Mary’s Preparatory\, 3535 Commerce Rd.\, West Bloomfield Township\, MI\, 48324
CATEGORIES:Tryouts
END:VEVENT
BEGIN:VEVENT
DTSTART;TZID=America/New_York:20250802T110000
DTEND;TZID=America/New_York:20250802T110000
DTSTAMP:20260422T193434
CREATED:20250811T172406Z
LAST-MODIFIED:20251008T140818Z
UID:10000731-1754132400-1754132400@www.teamelitebaseball.org
SUMMARY:TE National Program  Tryouts (13U - 18U) @ Mountain View High School
DESCRIPTION:
URL:https://www.teamelitebaseball.org/event/te-national-program-tryouts-13u-18u-mountain-view-high-school/
LOCATION:Mountain View High School\, 2351 Sunny Hill Rd\, Lawrenceville\, GA\, 30043
CATEGORIES:Tryouts
END:VEVENT
BEGIN:VEVENT
DTSTART;TZID=America/Chicago:20250802T110000
DTEND;TZID=America/Chicago:20250802T110000
DTSTAMP:20260422T193434
CREATED:20250811T172406Z
LAST-MODIFIED:20251008T140818Z
UID:10000732-1754132400-1754132400@www.teamelitebaseball.org
SUMMARY:TE National Program  Tryouts (13U - 18U) @ Publix Sports Park
DESCRIPTION:
URL:https://www.teamelitebaseball.org/event/te-national-program-tryouts-13u-18u-publix-sports-park/
LOCATION:Publix Sports Park\, 50 Chip Seal Pkwy\, Panama City Beach\, FL\, 32407
CATEGORIES:Tryouts
END:VEVENT
BEGIN:VEVENT
DTSTART;TZID=America/New_York:20250803T140000
DTEND;TZID=America/New_York:20250803T140000
DTSTAMP:20260422T193434
CREATED:20250811T172408Z
LAST-MODIFIED:20251008T140818Z
UID:10000733-1754229600-1754229600@www.teamelitebaseball.org
SUMMARY:TE National Program  Tryouts (13U - 18U) @ Dawson County High School
DESCRIPTION:
URL:https://www.teamelitebaseball.org/event/te-national-program-tryouts-13u-18u-dawson-county-high-school/
LOCATION:Dawson County High School\, 1665 Perimeter Rd\, Dawsonville\, GA\, 30534
CATEGORIES:Tryouts
END:VEVENT
BEGIN:VEVENT
DTSTART;TZID=America/New_York:20250803T140000
DTEND;TZID=America/New_York:20250803T140000
DTSTAMP:20260422T193434
CREATED:20250811T172408Z
LAST-MODIFIED:20251008T140818Z
UID:10000734-1754229600-1754229600@www.teamelitebaseball.org
SUMMARY:TE National Program  Tryouts (13U - 18U) @ Sprayberry High School
DESCRIPTION:
URL:https://www.teamelitebaseball.org/event/te-national-program-tryouts-13u-18u-sprayberry-high-school/
LOCATION:Sprayberry High School\, 2525 Sandy Plains Rd.\, Marietta\, GA\, 30066
CATEGORIES:Tryouts
END:VEVENT
END:VCALENDAR