BEGIN:VCALENDAR
VERSION:2.0
PRODID:-//Team Elite - ECPv6.15.17.1//NONSGML v1.0//EN
CALSCALE:GREGORIAN
METHOD:PUBLISH
X-ORIGINAL-URL:https://www.teamelitebaseball.org
X-WR-CALDESC:Events for Team Elite
REFRESH-INTERVAL;VALUE=DURATION:PT1H
X-Robots-Tag:noindex
X-PUBLISHED-TTL:PT1H
BEGIN:VTIMEZONE
TZID:America/Chicago
BEGIN:DAYLIGHT
TZOFFSETFROM:-0600
TZOFFSETTO:-0500
TZNAME:CDT
DTSTART:20240310T080000
END:DAYLIGHT
BEGIN:STANDARD
TZOFFSETFROM:-0500
TZOFFSETTO:-0600
TZNAME:CST
DTSTART:20241103T070000
END:STANDARD
BEGIN:DAYLIGHT
TZOFFSETFROM:-0600
TZOFFSETTO:-0500
TZNAME:CDT
DTSTART:20250309T080000
END:DAYLIGHT
BEGIN:STANDARD
TZOFFSETFROM:-0500
TZOFFSETTO:-0600
TZNAME:CST
DTSTART:20251102T070000
END:STANDARD
BEGIN:DAYLIGHT
TZOFFSETFROM:-0600
TZOFFSETTO:-0500
TZNAME:CDT
DTSTART:20260308T080000
END:DAYLIGHT
BEGIN:STANDARD
TZOFFSETFROM:-0500
TZOFFSETTO:-0600
TZNAME:CST
DTSTART:20261101T070000
END:STANDARD
END:VTIMEZONE
BEGIN:VTIMEZONE
TZID:America/New_York
BEGIN:DAYLIGHT
TZOFFSETFROM:-0500
TZOFFSETTO:-0400
TZNAME:EDT
DTSTART:20240310T070000
END:DAYLIGHT
BEGIN:STANDARD
TZOFFSETFROM:-0400
TZOFFSETTO:-0500
TZNAME:EST
DTSTART:20241103T060000
END:STANDARD
BEGIN:DAYLIGHT
TZOFFSETFROM:-0500
TZOFFSETTO:-0400
TZNAME:EDT
DTSTART:20250309T070000
END:DAYLIGHT
BEGIN:STANDARD
TZOFFSETFROM:-0400
TZOFFSETTO:-0500
TZNAME:EST
DTSTART:20251102T060000
END:STANDARD
BEGIN:DAYLIGHT
TZOFFSETFROM:-0500
TZOFFSETTO:-0400
TZNAME:EDT
DTSTART:20260308T070000
END:DAYLIGHT
BEGIN:STANDARD
TZOFFSETFROM:-0400
TZOFFSETTO:-0500
TZNAME:EST
DTSTART:20261101T060000
END:STANDARD
END:VTIMEZONE
BEGIN:VEVENT
DTSTART;TZID=America/Chicago:20250823T110000
DTEND;TZID=America/Chicago:20250823T110000
DTSTAMP:20260422T135746
CREATED:20250811T172443Z
LAST-MODIFIED:20251008T140926Z
UID:10000744-1755946800-1755946800@www.teamelitebaseball.org
SUMMARY:TE National Program  Tryouts (13U - 18U) @ Hoover Metropolitan Complex
DESCRIPTION:
URL:https://www.teamelitebaseball.org/event/te-national-program-tryouts-13u-18u-hoover-metropolitan-complex/
LOCATION:Hoover Metropolitan Complex\, 5508 Stadium Trace Pkwy\, Hoover\, AL\, 35244
CATEGORIES:Tryouts
END:VEVENT
BEGIN:VEVENT
DTSTART;TZID=America/New_York:20250823T110000
DTEND;TZID=America/New_York:20250823T110000
DTSTAMP:20260422T135746
CREATED:20250811T172444Z
LAST-MODIFIED:20251008T140926Z
UID:10000745-1755946800-1755946800@www.teamelitebaseball.org
SUMMARY:TE National Program  Tryouts (13U - 18U) @ Milton Pro Player
DESCRIPTION:
URL:https://www.teamelitebaseball.org/event/te-national-program-tryouts-13u-18u-milton-pro-player/
LOCATION:Milton Pro Player\, 17162 Birmingham Hwy.\, Alpharetta\, GA\, 30004
CATEGORIES:Tryouts
END:VEVENT
BEGIN:VEVENT
DTSTART;TZID=America/New_York:20250824T130000
DTEND;TZID=America/New_York:20250824T130000
DTSTAMP:20260422T135746
CREATED:20250811T172502Z
LAST-MODIFIED:20251008T140942Z
UID:10000752-1756040400-1756040400@www.teamelitebaseball.org
SUMMARY:TE Platinum  Tryouts (13U - 18U) @ Presbyterian College
DESCRIPTION:
URL:https://www.teamelitebaseball.org/event/te-platinum-tryouts-13u-18u-presbyterian-college/
LOCATION:Presbyterian College\, 503 South Broad St.\, Clinton\, SC\, 29325
CATEGORIES:Tryouts
END:VEVENT
BEGIN:VEVENT
DTSTART;TZID=America/New_York:20250824T140000
DTEND;TZID=America/New_York:20250824T140000
DTSTAMP:20260422T135746
CREATED:20250811T172444Z
LAST-MODIFIED:20251008T140926Z
UID:10000746-1756044000-1756044000@www.teamelitebaseball.org
SUMMARY:TE National Program  Tryouts (13U - 18U) @ Dawson County High School
DESCRIPTION:
URL:https://www.teamelitebaseball.org/event/te-national-program-tryouts-13u-18u-dawson-county-high-school-3/
LOCATION:Dawson County High School\, 1665 Perimeter Rd\, Dawsonville\, GA\, 30534
CATEGORIES:Tryouts
END:VEVENT
BEGIN:VEVENT
DTSTART;TZID=America/New_York:20250824T140000
DTEND;TZID=America/New_York:20250824T140000
DTSTAMP:20260422T135746
CREATED:20250811T172444Z
LAST-MODIFIED:20251008T140926Z
UID:10000747-1756044000-1756044000@www.teamelitebaseball.org
SUMMARY:TE National Program  Tryouts (13U - 18U) @ Winder Complex
DESCRIPTION:
URL:https://www.teamelitebaseball.org/event/te-national-program-tryouts-13u-18u-winder-complex-3/
LOCATION:Winder Complex\, 338 Monroe Hwy.\, Winder\, GA\, 30680
CATEGORIES:Tryouts
END:VEVENT
END:VCALENDAR