BEGIN:VCALENDAR
VERSION:2.0
PRODID:-//Team Elite - ECPv6.15.17.1//NONSGML v1.0//EN
CALSCALE:GREGORIAN
METHOD:PUBLISH
X-WR-CALNAME:Team Elite
X-ORIGINAL-URL:https://www.teamelitebaseball.org
X-WR-CALDESC:Events for Team Elite
REFRESH-INTERVAL;VALUE=DURATION:PT1H
X-Robots-Tag:noindex
X-PUBLISHED-TTL:PT1H
BEGIN:VTIMEZONE
TZID:America/New_York
BEGIN:DAYLIGHT
TZOFFSETFROM:-0500
TZOFFSETTO:-0400
TZNAME:EDT
DTSTART:20240310T070000
END:DAYLIGHT
BEGIN:STANDARD
TZOFFSETFROM:-0400
TZOFFSETTO:-0500
TZNAME:EST
DTSTART:20241103T060000
END:STANDARD
BEGIN:DAYLIGHT
TZOFFSETFROM:-0500
TZOFFSETTO:-0400
TZNAME:EDT
DTSTART:20250309T070000
END:DAYLIGHT
BEGIN:STANDARD
TZOFFSETFROM:-0400
TZOFFSETTO:-0500
TZNAME:EST
DTSTART:20251102T060000
END:STANDARD
BEGIN:DAYLIGHT
TZOFFSETFROM:-0500
TZOFFSETTO:-0400
TZNAME:EDT
DTSTART:20260308T070000
END:DAYLIGHT
BEGIN:STANDARD
TZOFFSETFROM:-0400
TZOFFSETTO:-0500
TZNAME:EST
DTSTART:20261101T060000
END:STANDARD
END:VTIMEZONE
BEGIN:VEVENT
DTSTART;TZID=America/New_York:20250809T170000
DTEND;TZID=America/New_York:20250809T170000
DTSTAMP:20260421T204336
CREATED:20250811T172349Z
LAST-MODIFIED:20251008T140835Z
UID:10000724-1754758800-1754758800@www.teamelitebaseball.org
SUMMARY:TE Prospects  Tryouts (13U - 14U) @ University High School
DESCRIPTION:
URL:https://www.teamelitebaseball.org/event/te-prospects-tryouts-13u-14u-university-high-school/
LOCATION:University High School\, 1000 Rhode Island Ave\, Orange City\, FL\, 32763
CATEGORIES:Tryouts
END:VEVENT
BEGIN:VEVENT
DTSTART;TZID=America/New_York:20250809T183000
DTEND;TZID=America/New_York:20250809T183000
DTSTAMP:20260421T204336
CREATED:20250811T172518Z
LAST-MODIFIED:20251008T140851Z
UID:10000755-1754764200-1754764200@www.teamelitebaseball.org
SUMMARY:TE Prospects  Tryouts (15U - 17U) @ University High School
DESCRIPTION:
URL:https://www.teamelitebaseball.org/event/te-prospects-tryouts-15u-17u-university-high-school/
LOCATION:University High School\, 1000 Rhode Island Ave\, Orange City\, FL\, 32763
CATEGORIES:Tryouts
END:VEVENT
END:VCALENDAR