BEGIN:VCALENDAR
VERSION:2.0
PRODID:-//Team Elite - ECPv6.15.17.1//NONSGML v1.0//EN
CALSCALE:GREGORIAN
METHOD:PUBLISH
X-ORIGINAL-URL:https://www.teamelitebaseball.org
X-WR-CALDESC:Events for Team Elite
REFRESH-INTERVAL;VALUE=DURATION:PT1H
X-Robots-Tag:noindex
X-PUBLISHED-TTL:PT1H
BEGIN:VTIMEZONE
TZID:America/New_York
BEGIN:DAYLIGHT
TZOFFSETFROM:-0500
TZOFFSETTO:-0400
TZNAME:EDT
DTSTART:20240310T070000
END:DAYLIGHT
BEGIN:STANDARD
TZOFFSETFROM:-0400
TZOFFSETTO:-0500
TZNAME:EST
DTSTART:20241103T060000
END:STANDARD
BEGIN:DAYLIGHT
TZOFFSETFROM:-0500
TZOFFSETTO:-0400
TZNAME:EDT
DTSTART:20250309T070000
END:DAYLIGHT
BEGIN:STANDARD
TZOFFSETFROM:-0400
TZOFFSETTO:-0500
TZNAME:EST
DTSTART:20251102T060000
END:STANDARD
BEGIN:DAYLIGHT
TZOFFSETFROM:-0500
TZOFFSETTO:-0400
TZNAME:EDT
DTSTART:20260308T070000
END:DAYLIGHT
BEGIN:STANDARD
TZOFFSETFROM:-0400
TZOFFSETTO:-0500
TZNAME:EST
DTSTART:20261101T060000
END:STANDARD
END:VTIMEZONE
BEGIN:VTIMEZONE
TZID:America/Chicago
BEGIN:DAYLIGHT
TZOFFSETFROM:-0600
TZOFFSETTO:-0500
TZNAME:CDT
DTSTART:20240310T080000
END:DAYLIGHT
BEGIN:STANDARD
TZOFFSETFROM:-0500
TZOFFSETTO:-0600
TZNAME:CST
DTSTART:20241103T070000
END:STANDARD
BEGIN:DAYLIGHT
TZOFFSETFROM:-0600
TZOFFSETTO:-0500
TZNAME:CDT
DTSTART:20250309T080000
END:DAYLIGHT
BEGIN:STANDARD
TZOFFSETFROM:-0500
TZOFFSETTO:-0600
TZNAME:CST
DTSTART:20251102T070000
END:STANDARD
BEGIN:DAYLIGHT
TZOFFSETFROM:-0600
TZOFFSETTO:-0500
TZNAME:CDT
DTSTART:20260308T080000
END:DAYLIGHT
BEGIN:STANDARD
TZOFFSETFROM:-0500
TZOFFSETTO:-0600
TZNAME:CST
DTSTART:20261101T070000
END:STANDARD
END:VTIMEZONE
BEGIN:VEVENT
DTSTART;TZID=America/New_York:20250813T140000
DTEND;TZID=America/New_York:20250813T140000
DTSTAMP:20260422T123405
CREATED:20250811T172425Z
LAST-MODIFIED:20251008T140853Z
UID:10000739-1755093600-1755093600@www.teamelitebaseball.org
SUMMARY:TE National Program  Tryouts (13U - 18U) @ Dawson County High School
DESCRIPTION:
URL:https://www.teamelitebaseball.org/event/te-national-program-tryouts-13u-18u-dawson-county-high-school-2/
LOCATION:Dawson County High School\, 1665 Perimeter Rd\, Dawsonville\, GA\, 30534
CATEGORIES:Tryouts
END:VEVENT
BEGIN:VEVENT
DTSTART;TZID=America/New_York:20250814T190000
DTEND;TZID=America/New_York:20250814T190000
DTSTAMP:20260422T123405
CREATED:20250811T172257Z
LAST-MODIFIED:20251008T140853Z
UID:10000710-1755198000-1755198000@www.teamelitebaseball.org
SUMMARY:TE National Program  Tryouts (11U - 12U) @ Peachtree Ridge High School
DESCRIPTION:
URL:https://www.teamelitebaseball.org/event/te-national-program-tryouts-11u-12u-peachtree-ridge-high-school/
LOCATION:Peachtree Ridge High School\, 1555 Old Peachtree Rd. NW\, Suwanee\, GA\, 30024
CATEGORIES:Tryouts
END:VEVENT
BEGIN:VEVENT
DTSTART;TZID=America/New_York:20250816T110000
DTEND;TZID=America/New_York:20250816T110000
DTSTAMP:20260422T123405
CREATED:20250811T172425Z
LAST-MODIFIED:20251008T140853Z
UID:10000740-1755342000-1755342000@www.teamelitebaseball.org
SUMMARY:TE National Program  Tryouts (13U - 18U) @ Mountain View High School
DESCRIPTION:
URL:https://www.teamelitebaseball.org/event/te-national-program-tryouts-13u-18u-mountain-view-high-school-2/
LOCATION:Mountain View High School\, 2351 Sunny Hill Rd\, Lawrenceville\, GA\, 30043
CATEGORIES:Tryouts
END:VEVENT
BEGIN:VEVENT
DTSTART;TZID=America/Chicago:20250816T110000
DTEND;TZID=America/Chicago:20250816T110000
DTSTAMP:20260422T123405
CREATED:20250811T172426Z
LAST-MODIFIED:20251008T140853Z
UID:10000741-1755342000-1755342000@www.teamelitebaseball.org
SUMMARY:TE National Program  Tryouts (13U - 18U) @ Publix Sports Park
DESCRIPTION:
URL:https://www.teamelitebaseball.org/event/te-national-program-tryouts-13u-18u-publix-sports-park-2/
LOCATION:Publix Sports Park\, 50 Chip Seal Pkwy\, Panama City Beach\, FL\, 32407
CATEGORIES:Tryouts
END:VEVENT
BEGIN:VEVENT
DTSTART;TZID=America/New_York:20250816T130000
DTEND;TZID=America/New_York:20250816T130000
DTSTAMP:20260422T123405
CREATED:20250811T172502Z
LAST-MODIFIED:20251008T140909Z
UID:10000750-1755349200-1755349200@www.teamelitebaseball.org
SUMMARY:TE Platinum  Tryouts (13U - 18U) @ Seneca High School
DESCRIPTION:
URL:https://www.teamelitebaseball.org/event/te-platinum-tryouts-13u-18u-seneca-high-school/
LOCATION:Seneca High School\, 100 Bobcat Ridge\, Seneca\, SC\, 29678
CATEGORIES:Tryouts
END:VEVENT
BEGIN:VEVENT
DTSTART;TZID=America/New_York:20250816T170000
DTEND;TZID=America/New_York:20250816T170000
DTSTAMP:20260422T123405
CREATED:20250811T172349Z
LAST-MODIFIED:20251008T140853Z
UID:10000725-1755363600-1755363600@www.teamelitebaseball.org
SUMMARY:TE Prospects  Tryouts (13U - 14U) @ University High School
DESCRIPTION:
URL:https://www.teamelitebaseball.org/event/te-prospects-tryouts-13u-14u-university-high-school-2/
LOCATION:University High School\, 1000 Rhode Island Ave\, Orange City\, FL\, 32763
CATEGORIES:Tryouts
END:VEVENT
BEGIN:VEVENT
DTSTART;TZID=America/New_York:20250816T183000
DTEND;TZID=America/New_York:20250816T183000
DTSTAMP:20260422T123405
CREATED:20250811T172519Z
LAST-MODIFIED:20251008T140909Z
UID:10000756-1755369000-1755369000@www.teamelitebaseball.org
SUMMARY:TE Prospects  Tryouts (15U - 17U) @ University High School
DESCRIPTION:
URL:https://www.teamelitebaseball.org/event/te-prospects-tryouts-15u-17u-university-high-school-2/
LOCATION:University High School\, 1000 Rhode Island Ave\, Orange City\, FL\, 32763
CATEGORIES:Tryouts
END:VEVENT
BEGIN:VEVENT
DTSTART;TZID=America/New_York:20250817T130000
DTEND;TZID=America/New_York:20250817T130000
DTSTAMP:20260422T123405
CREATED:20250811T172502Z
LAST-MODIFIED:20251008T140926Z
UID:10000751-1755435600-1755435600@www.teamelitebaseball.org
SUMMARY:TE Platinum  Tryouts (13U - 18U) @ Westwood High School
DESCRIPTION:
URL:https://www.teamelitebaseball.org/event/te-platinum-tryouts-13u-18u-westwood-high-school/
LOCATION:Westwood High School\, 180 Turkey Farm Rd.\, Blythewood\, SC\, 29016
CATEGORIES:Tryouts
END:VEVENT
BEGIN:VEVENT
DTSTART;TZID=America/New_York:20250817T140000
DTEND;TZID=America/New_York:20250817T140000
DTSTAMP:20260422T123405
CREATED:20250811T172426Z
LAST-MODIFIED:20251008T140910Z
UID:10000742-1755439200-1755439200@www.teamelitebaseball.org
SUMMARY:TE National Program  Tryouts (13U - 18U) @ Peachtree Ridge High School
DESCRIPTION:
URL:https://www.teamelitebaseball.org/event/te-national-program-tryouts-13u-18u-peachtree-ridge-high-school-2/
LOCATION:Peachtree Ridge High School\, 1555 Old Peachtree Rd. NW\, Suwanee\, GA\, 30024
CATEGORIES:Tryouts
END:VEVENT
BEGIN:VEVENT
DTSTART;TZID=America/New_York:20250817T140000
DTEND;TZID=America/New_York:20250817T140000
DTSTAMP:20260422T123405
CREATED:20250811T172443Z
LAST-MODIFIED:20251008T140910Z
UID:10000743-1755439200-1755439200@www.teamelitebaseball.org
SUMMARY:TE National Program  Tryouts (13U - 18U) @ Sprayberry High School
DESCRIPTION:
URL:https://www.teamelitebaseball.org/event/te-national-program-tryouts-13u-18u-sprayberry-high-school-2/
LOCATION:Sprayberry High School\, 2525 Sandy Plains Rd.\, Marietta\, GA\, 30066
CATEGORIES:Tryouts
END:VEVENT
BEGIN:VEVENT
DTSTART;TZID=America/New_York:20250817T170000
DTEND;TZID=America/New_York:20250817T170000
DTSTAMP:20260422T123405
CREATED:20250811T172240Z
LAST-MODIFIED:20251008T140910Z
UID:10000705-1755450000-1755450000@www.teamelitebaseball.org
SUMMARY:TE National Program Sluggers Tryouts (9U) @ Oconee Presbyterian Church
DESCRIPTION:
URL:https://www.teamelitebaseball.org/event/te-national-program-sluggers-tryouts-9u-oconee-presbyterian-church/
LOCATION:Oconee Presbyterian Church\, 2601 Hog Mountain Rd.\, Watkinsville\, GA\, 30677
CATEGORIES:Tryouts
END:VEVENT
END:VCALENDAR