BEGIN:VCALENDAR
VERSION:2.0
PRODID:-//Team Elite - ECPv6.15.17.1//NONSGML v1.0//EN
CALSCALE:GREGORIAN
METHOD:PUBLISH
X-ORIGINAL-URL:https://www.teamelitebaseball.org
X-WR-CALDESC:Events for Team Elite
REFRESH-INTERVAL;VALUE=DURATION:PT1H
X-Robots-Tag:noindex
X-PUBLISHED-TTL:PT1H
BEGIN:VTIMEZONE
TZID:America/Chicago
BEGIN:DAYLIGHT
TZOFFSETFROM:-0600
TZOFFSETTO:-0500
TZNAME:CDT
DTSTART:20240310T080000
END:DAYLIGHT
BEGIN:STANDARD
TZOFFSETFROM:-0500
TZOFFSETTO:-0600
TZNAME:CST
DTSTART:20241103T070000
END:STANDARD
BEGIN:DAYLIGHT
TZOFFSETFROM:-0600
TZOFFSETTO:-0500
TZNAME:CDT
DTSTART:20250309T080000
END:DAYLIGHT
BEGIN:STANDARD
TZOFFSETFROM:-0500
TZOFFSETTO:-0600
TZNAME:CST
DTSTART:20251102T070000
END:STANDARD
BEGIN:DAYLIGHT
TZOFFSETFROM:-0600
TZOFFSETTO:-0500
TZNAME:CDT
DTSTART:20260308T080000
END:DAYLIGHT
BEGIN:STANDARD
TZOFFSETFROM:-0500
TZOFFSETTO:-0600
TZNAME:CST
DTSTART:20261101T070000
END:STANDARD
END:VTIMEZONE
BEGIN:VTIMEZONE
TZID:America/New_York
BEGIN:DAYLIGHT
TZOFFSETFROM:-0500
TZOFFSETTO:-0400
TZNAME:EDT
DTSTART:20240310T070000
END:DAYLIGHT
BEGIN:STANDARD
TZOFFSETFROM:-0400
TZOFFSETTO:-0500
TZNAME:EST
DTSTART:20241103T060000
END:STANDARD
BEGIN:DAYLIGHT
TZOFFSETFROM:-0500
TZOFFSETTO:-0400
TZNAME:EDT
DTSTART:20250309T070000
END:DAYLIGHT
BEGIN:STANDARD
TZOFFSETFROM:-0400
TZOFFSETTO:-0500
TZNAME:EST
DTSTART:20251102T060000
END:STANDARD
BEGIN:DAYLIGHT
TZOFFSETFROM:-0500
TZOFFSETTO:-0400
TZNAME:EDT
DTSTART:20260308T070000
END:DAYLIGHT
BEGIN:STANDARD
TZOFFSETFROM:-0400
TZOFFSETTO:-0500
TZNAME:EST
DTSTART:20261101T060000
END:STANDARD
END:VTIMEZONE
BEGIN:VEVENT
DTSTART;TZID=America/Chicago:20251111T140000
DTEND;TZID=America/Chicago:20251111T140000
DTSTAMP:20260420T064246
CREATED:20251008T145653Z
LAST-MODIFIED:20260121T212119Z
UID:10000871-1762869600-1762869600@www.teamelitebaseball.org
SUMMARY:TE Premier Illinois Tryouts (13U - 14U) @ K25 Baseball Academy
DESCRIPTION:
URL:https://www.teamelitebaseball.org/event/te-premier-illinois-tryouts-13u-14u-k25-baseball-academy-2/
LOCATION:K25 Baseball Academy\, 200 Alder Dr\, North Aurora\, IL\, 60542
CATEGORIES:Tryouts
END:VEVENT
BEGIN:VEVENT
DTSTART;TZID=America/Chicago:20251111T150000
DTEND;TZID=America/Chicago:20251111T150000
DTSTAMP:20260420T064246
CREATED:20251008T145653Z
LAST-MODIFIED:20260121T212119Z
UID:10000872-1762873200-1762873200@www.teamelitebaseball.org
SUMMARY:TE Premier Illinois Tryouts (15U) @ K25 Baseball Academy
DESCRIPTION:
URL:https://www.teamelitebaseball.org/event/te-premier-illinois-tryouts-15u-k25-baseball-academy-2/
LOCATION:K25 Baseball Academy\, 200 Alder Dr\, North Aurora\, IL\, 60542
CATEGORIES:Tryouts
END:VEVENT
BEGIN:VEVENT
DTSTART;TZID=America/Chicago:20251111T163000
DTEND;TZID=America/Chicago:20251111T163000
DTSTAMP:20260420T064246
CREATED:20251008T145653Z
LAST-MODIFIED:20260121T212118Z
UID:10000873-1762878600-1762878600@www.teamelitebaseball.org
SUMMARY:TE Premier Illinois Tryouts (18U) @ K25 Baseball Academy
DESCRIPTION:
URL:https://www.teamelitebaseball.org/event/te-premier-illinois-tryouts-18u-k25-baseball-academy-2/
LOCATION:K25 Baseball Academy\, 200 Alder Dr\, North Aurora\, IL\, 60542
CATEGORIES:Tryouts
END:VEVENT
BEGIN:VEVENT
DTSTART;TZID=America/New_York:20251115T120000
DTEND;TZID=America/New_York:20251115T120000
DTSTAMP:20260420T064246
CREATED:20251008T134755Z
LAST-MODIFIED:20251023T182441Z
UID:10000864-1763208000-1763208000@www.teamelitebaseball.org
SUMMARY:TE Platinum  Tryouts (13U - 18U) @ Charleston Southern University
DESCRIPTION:Platinum tryouts also feed into tryouts for our National Program
URL:https://www.teamelitebaseball.org/event/te-platinum-tryouts-13u-18u-charleston-southern-university/
LOCATION:Charleston Southern University\, 9200 University Blvd.\, North Charleston\, SC\, 29406
CATEGORIES:Tryouts
END:VEVENT
BEGIN:VEVENT
DTSTART;TZID=America/New_York:20251115T120000
DTEND;TZID=America/New_York:20251115T120000
DTSTAMP:20260420T064246
CREATED:20251023T175907Z
LAST-MODIFIED:20251023T182515Z
UID:10000876-1763208000-1763208000@www.teamelitebaseball.org
SUMMARY:TE National Program  Tryouts (13U - 18U) @ Charleston Southern University
DESCRIPTION:
URL:https://www.teamelitebaseball.org/event/te-national-program-tryouts-13u-18u-charleston-southern-university/
LOCATION:Charleston Southern University\, 9200 University Blvd.\, North Charleston\, SC\, 29406
CATEGORIES:Tryouts
END:VEVENT
BEGIN:VEVENT
DTSTART;TZID=America/New_York:20251116T130000
DTEND;TZID=America/New_York:20251116T130000
DTSTAMP:20260420T064246
CREATED:20251008T134755Z
LAST-MODIFIED:20251023T182442Z
UID:10000865-1763298000-1763298000@www.teamelitebaseball.org
SUMMARY:TE Platinum  Tryouts (13U - 18U) @ Davidson College
DESCRIPTION:Platinum tryouts also feed into tryouts for our National Program
URL:https://www.teamelitebaseball.org/event/te-platinum-tryouts-13u-18u-davidson-college/
LOCATION:Davidson College\, 102 N Main St.\, Davidson\, NC\, 28036
CATEGORIES:Tryouts
END:VEVENT
BEGIN:VEVENT
DTSTART;TZID=America/New_York:20251116T130000
DTEND;TZID=America/New_York:20251116T130000
DTSTAMP:20260420T064246
CREATED:20251023T175908Z
LAST-MODIFIED:20251023T182515Z
UID:10000877-1763298000-1763298000@www.teamelitebaseball.org
SUMMARY:TE National Program  Tryouts (13U - 18U) @ Davidson College
DESCRIPTION:
URL:https://www.teamelitebaseball.org/event/te-national-program-tryouts-13u-18u-davidson-college/
LOCATION:Davidson College\, 102 N Main St.\, Davidson\, NC\, 28036
CATEGORIES:Tryouts
END:VEVENT
BEGIN:VEVENT
DTSTART;TZID=America/New_York:20251116T140000
DTEND;TZID=America/New_York:20251116T140000
DTSTAMP:20260420T064246
CREATED:20250924T163350Z
LAST-MODIFIED:20251023T182438Z
UID:10000853-1763301600-1763301600@www.teamelitebaseball.org
SUMMARY:TE National Program  Tryouts (11U - 18U) @ Milton Pro Player
DESCRIPTION:
URL:https://www.teamelitebaseball.org/event/te-national-program-tryouts-11u-18u-milton-pro-player/
LOCATION:Milton Pro Player\, 17162 Birmingham Hwy.\, Alpharetta\, GA\, 30004
CATEGORIES:Tryouts
END:VEVENT
END:VCALENDAR